BEGIN:VCALENDAR
VERSION:2.0
PRODID:-//All Heart Holistic Group - ECPv6.15.20//NONSGML v1.0//EN
CALSCALE:GREGORIAN
METHOD:PUBLISH
X-ORIGINAL-URL:https://allheartholisticgroup.com
X-WR-CALDESC:Events for All Heart Holistic Group
REFRESH-INTERVAL;VALUE=DURATION:PT1H
X-Robots-Tag:noindex
X-PUBLISHED-TTL:PT1H
BEGIN:VTIMEZONE
TZID:America/New_York
BEGIN:DAYLIGHT
TZOFFSETFROM:-0500
TZOFFSETTO:-0400
TZNAME:EDT
DTSTART:20250309T070000
END:DAYLIGHT
BEGIN:STANDARD
TZOFFSETFROM:-0400
TZOFFSETTO:-0500
TZNAME:EST
DTSTART:20251102T060000
END:STANDARD
BEGIN:DAYLIGHT
TZOFFSETFROM:-0500
TZOFFSETTO:-0400
TZNAME:EDT
DTSTART:20260308T070000
END:DAYLIGHT
BEGIN:STANDARD
TZOFFSETFROM:-0400
TZOFFSETTO:-0500
TZNAME:EST
DTSTART:20261101T060000
END:STANDARD
BEGIN:DAYLIGHT
TZOFFSETFROM:-0500
TZOFFSETTO:-0400
TZNAME:EDT
DTSTART:20270314T070000
END:DAYLIGHT
BEGIN:STANDARD
TZOFFSETFROM:-0400
TZOFFSETTO:-0500
TZNAME:EST
DTSTART:20271107T060000
END:STANDARD
END:VTIMEZONE
BEGIN:VEVENT
DTSTART;TZID=America/New_York:20260509T130000
DTEND;TZID=America/New_York:20260509T160000
DTSTAMP:20260423T080101
CREATED:20260421T171251Z
LAST-MODIFIED:20260422T004825Z
UID:1681-1778331600-1778342400@allheartholisticgroup.com
SUMMARY:05/09 – Roswell – Nervous System Reset 1-4pm
DESCRIPTION:05/09 | Roswell | Nervous System Reset Experience1:00–4:00 PM | Sliding Scale: $50–$75 \nJoin us in Roswell for a deeply restorative three-hour immersion designed to support stress release\, emotional regulation\, and embodied awareness. The Nervous System Reset Experience is an intentional journey inward—inviting you to slow down\, reconnect\, and return to balance. \nThrough a thoughtfully guided blend of somatic movement\, intentional breathwork\, meditation\, and sound healing\, you’ll be held in a space that nurtures both body and mind. We begin with grounding movement to gently release stored tension\, transition into breathwork that builds rhythm and awareness\, and close with meditation and immersive sound to support integration and deep rest. \nThis experience is open to all levels and created with accessibility and safety in mind—offering a supportive environment to reconnect with yourself while fostering meaningful community connection. \nSliding Scale Options:• $50 – Community Admission• $60 – Supporter Tier (helps fund partial scholarships)• $75 – Super Supporter Tier (supports expanded access) \nWhat to Bring:• Yoga mat• Pillow or cushion• Blanket• Water bottle• Journal (optional)• Comfortable clothing \nCome breathe\, reset\, and reconnect.
URL:https://allheartholisticgroup.com/event/05-09-roswell-nervous-system-reset-1-4pm/
LOCATION:The Summit Wellness Group- Roswell\, 745 Hembree Pl\, Roswell\, GA\, 30076\, United States
CATEGORIES:Wellness
ATTACH;FMTTYPE=image/jpeg:https://allheartholisticgroup.com/wp-content/uploads/2026/04/Nervous-System-Reset-9.jpg
ORGANIZER;CN="Sean Owen":MAILTO:allheartholisticgroup@gmail.com
END:VEVENT
BEGIN:VEVENT
DTSTART;TZID=America/New_York:20260517T170000
DTEND;TZID=America/New_York:20260517T190000
DTSTAMP:20260423T080101
CREATED:20260414T005251Z
LAST-MODIFIED:20260414T005539Z
UID:1632-1779037200-1779044400@allheartholisticgroup.com
SUMMARY:Moon Cacao Ceremony & Sound Bath w/ Radha Rose
DESCRIPTION:5/17 🌚 New Moon Cacao Ceremony & Sound Bath with Radha Rose 📍Roswell\, GA \nRenew and embody your Higher Self in open-hearted community with a Cacao Ceremony & Sound Bath guided by experienced ceremonialist and singer Radha Rose this Taurus New Moon ♉️🌑 \nBeauty\, bounty and bliss await you this season: \n☕️ CEREMONY HIGHLIGHTS\n• 100% Ceremonial-Grade Cacao made with love\n• Astrological Insights (Taurus-Gemini Season)\n• Guided Meditation\n• Intention-Setting & Sharing\n• Medicine Songs & Mantras\n• Restorative Sound Bath & Śavasānā feat. Quartz Crystal Sound Bowls\, Gong\, Frame Drum\, Vocal Toning\, Harmonium\, Chakapa\, Chimes \n🕯️ Cacao Ceremonies are spiritually inclusive. We gather in heart-led community to return to a state of Oneness and Love. Self-inquiry and intuitive insights are encouraged with opportunities to share. \n🌹 WHEN & WHERE\n🗓️ Sunday\, May 17th\n⏰ 5:00-7:00 PM\n📍 Summit Wellness Group — 745 Hembree Place\, Roswell\, GA 30076 \n🧘 BYO cushion\, blanket & water bottle. Mats\, cacao & mugs are provided. A sage anointment ritual and closing fruit offering will enhance your healing experience. \n🍫 INVESTMENT\nSliding Scale of $50-70 includes bonus gifts: \n• $50 Ticket\n• $60 Ticket + 1 serving of cacao to take home with you\n• $70 Ticket + 2 servings of cacao to take home with you \n🎟️ PAYMENT OPTIONS\nEVENT LINK —  http://tr.ee/cacaoceremony \nRegister soon to secure your spot. Cacao Ceremonies have a history of selling out. \n📲 Text Radha: (678) 862-9384 following registration with any of your questions \n🔗 Follow Radha’s IG: instagram.com/theradharose \nCome open your heart with us. \nSee you on the New Moon. \nABOUT\nRadha Rose is a ceremonial guide\, chant musician and retreat leader from Alpharetta\, GA. Since 2019\, Radha has hosted 250+ community events and retreats including cacao ceremonies\, kirtans\, and sound baths in Athens\, Atlanta\, and throughout the Southeast. She is a private Voice and Harmonium Mentor and the Founder of Chant Southeast. Radha’s mission is to create intentional community containers that empower vocal empowerment\, personal transformation and collective spiritual healing.
URL:https://allheartholisticgroup.com/event/moon-cacao-ceremony-sound-bath-w-radha-rose/
LOCATION:GA
CATEGORIES:Wellness
ATTACH;FMTTYPE=image/png:https://allheartholisticgroup.com/wp-content/uploads/2026/04/Community-Gatherings-1-scaled.png
ORGANIZER;CN="Sean Owen":MAILTO:allheartholisticgroup@gmail.com
END:VEVENT
END:VCALENDAR