BEGIN:VCALENDAR
VERSION:2.0
PRODID:-//All Heart Holistic Group - ECPv6.15.20//NONSGML v1.0//EN
CALSCALE:GREGORIAN
METHOD:PUBLISH
X-WR-CALNAME:All Heart Holistic Group
X-ORIGINAL-URL:https://allheartholisticgroup.com
X-WR-CALDESC:Events for All Heart Holistic Group
REFRESH-INTERVAL;VALUE=DURATION:PT1H
X-Robots-Tag:noindex
X-PUBLISHED-TTL:PT1H
BEGIN:VTIMEZONE
TZID:America/New_York
BEGIN:DAYLIGHT
TZOFFSETFROM:-0500
TZOFFSETTO:-0400
TZNAME:EDT
DTSTART:20250309T070000
END:DAYLIGHT
BEGIN:STANDARD
TZOFFSETFROM:-0400
TZOFFSETTO:-0500
TZNAME:EST
DTSTART:20251102T060000
END:STANDARD
BEGIN:DAYLIGHT
TZOFFSETFROM:-0500
TZOFFSETTO:-0400
TZNAME:EDT
DTSTART:20260308T070000
END:DAYLIGHT
BEGIN:STANDARD
TZOFFSETFROM:-0400
TZOFFSETTO:-0500
TZNAME:EST
DTSTART:20261101T060000
END:STANDARD
BEGIN:DAYLIGHT
TZOFFSETFROM:-0500
TZOFFSETTO:-0400
TZNAME:EDT
DTSTART:20270314T070000
END:DAYLIGHT
BEGIN:STANDARD
TZOFFSETFROM:-0400
TZOFFSETTO:-0500
TZNAME:EST
DTSTART:20271107T060000
END:STANDARD
END:VTIMEZONE
BEGIN:VEVENT
DTSTART;TZID=America/New_York:20260328T160000
DTEND;TZID=America/New_York:20260328T180000
DTSTAMP:20260421T122411
CREATED:20260311T202222Z
LAST-MODIFIED:20260323T204225Z
UID:1303-1774713600-1774720800@allheartholisticgroup.com
SUMMARY:03/28- Marietta 4-6 pm : A Gentle Nervous System Reset w/The Yogi Mindset
DESCRIPTION:Join us for a deeply restorative evening designed to help you slow down\, soften\, and reconnect with your body. This gentle nervous system reset will be guided by Jenika Jensen\, founder of The Yogi Mindset\, who curates immersive wellness experiences that blend movement\, meditation\, and sound. \nDuring this 2-hour experience\, we’ll move through gentle yoga\, subtle breath awareness\, guided meditation\, and soothing sound healing to support the body in unwinding and settling into a deeper state of calm. This offering is perfect for anyone seeking a slower\, more nurturing reset—whether you are new to these practices or simply craving a restorative pause. \nWe’re also excited to continue welcoming incredible facilitators into the All Heart community\, expanding the ways we gather\, connect\, and heal together. \n📍 Marietta\, GA🗓 Sunday\, March 28⏰ 4:00 PM – 6:00 PM \nSliding Scale: $40–$60 \nWhat to bring:• Yoga mat• Water bottle• Comfortable clothing \nCome slow down\, breathe deeply\, and allow your nervous system to gently reset.
URL:https://allheartholisticgroup.com/event/a-gentle-nervous-system-reset-w-the-yogi-mindset-marietta-03-28-4-6-pm/
LOCATION:Thoroughbred\, 1501 Johnson Ferry Rd Suite 225\, Marietta\, GA\, 30062\, United States
CATEGORIES:Wellness
ATTACH;FMTTYPE=image/jpeg:https://allheartholisticgroup.com/wp-content/uploads/2026/03/a-Gentle-Nervous-System-Reset-with-The-Yogi-Mindset-Jenika-1.jpg
ORGANIZER;CN="Sean Owen":MAILTO:allheartholisticgroup@gmail.com
END:VEVENT
END:VCALENDAR