BEGIN:VCALENDAR
VERSION:2.0
PRODID:-//All Heart Holistic Group - ECPv6.15.20//NONSGML v1.0//EN
CALSCALE:GREGORIAN
METHOD:PUBLISH
X-WR-CALNAME:All Heart Holistic Group
X-ORIGINAL-URL:https://allheartholisticgroup.com
X-WR-CALDESC:Events for All Heart Holistic Group
REFRESH-INTERVAL;VALUE=DURATION:PT1H
X-Robots-Tag:noindex
X-PUBLISHED-TTL:PT1H
BEGIN:VTIMEZONE
TZID:America/New_York
BEGIN:DAYLIGHT
TZOFFSETFROM:-0500
TZOFFSETTO:-0400
TZNAME:EDT
DTSTART:20250309T070000
END:DAYLIGHT
BEGIN:STANDARD
TZOFFSETFROM:-0400
TZOFFSETTO:-0500
TZNAME:EST
DTSTART:20251102T060000
END:STANDARD
BEGIN:DAYLIGHT
TZOFFSETFROM:-0500
TZOFFSETTO:-0400
TZNAME:EDT
DTSTART:20260308T070000
END:DAYLIGHT
BEGIN:STANDARD
TZOFFSETFROM:-0400
TZOFFSETTO:-0500
TZNAME:EST
DTSTART:20261101T060000
END:STANDARD
BEGIN:DAYLIGHT
TZOFFSETFROM:-0500
TZOFFSETTO:-0400
TZNAME:EDT
DTSTART:20270314T070000
END:DAYLIGHT
BEGIN:STANDARD
TZOFFSETFROM:-0400
TZOFFSETTO:-0500
TZNAME:EST
DTSTART:20271107T060000
END:STANDARD
END:VTIMEZONE
BEGIN:VEVENT
DTSTART;TZID=America/New_York:20260426T130000
DTEND;TZID=America/New_York:20260426T160000
DTSTAMP:20260423T061636
CREATED:20260326T032432Z
LAST-MODIFIED:20260326T130601Z
UID:1463-1777208400-1777219200@allheartholisticgroup.com
SUMMARY:04/26-Huntsville\, Alabama - Nervous System Reset 1:00-4:00 pm
DESCRIPTION:Huntsville / Madison Nervous System Reset \nSunday\, April 26 | 1:00–4:00 PM \n📍 450 Dunlop Blvd SW \nMadison\, AL 35758 \nThis 3-hour guided experience blends somatic movement\, intentional breath work\, meditation\, and immersive sound to help regulate the nervous system and reconnect you to your body. Many people carry chronic stress\, tension\, and stored emotion without realizing it. This experience creates a safe\, grounded space to slow down\, release what’s stuck\, and return to clarity and presence. \nYou’ll move gently\, breathe intentionally\, rest deeply\, and reconnect within a supportive community container. \nSliding Scale: $50–$75 \nCommunity Admission\, Supporter Tier\, and Super Supporter options available. Higher tiers help fund partial scholarships and expand access for others. \nWhat to bring: \n• Yoga mat \n• Pillow or cushion \n• Blanket \n• Water bottle \n• Wear comfortable clothing \nArrive 10 minutes early to settle in.
URL:https://allheartholisticgroup.com/event/04-26-huntsville-alabama-nervous-system-reset-100-400-pm/
LOCATION:Longleaf Recovery Huntsville\, 450 Dunlop Blvd SW\, Madison\, AL\, 35758\, United States
CATEGORIES:Wellness
ATTACH;FMTTYPE=image/png:https://allheartholisticgroup.com/wp-content/uploads/2026/03/Image-3-25-26-at-11.07-PM.png
END:VEVENT
END:VCALENDAR